BEGIN:VCALENDAR
VERSION:2.0
PRODID:spatie/icalendar-generator
DESCRIPTION:Events from St. Anthony Mary Claret Roman Catholic Church
X-WR-CALDESC:Events from St. Anthony Mary Claret Roman Catholic Church
REFRESH-INTERVAL;VALUE=DURATION:PT1440M
X-PUBLISHED-TTL:PT1440M
BEGIN:VTIMEZONE
TZID:America/Chicago
BEGIN:STANDARD
DTSTART:20221106T020000Z
TZOFFSETFROM:-0500
TZOFFSETTO:-0600
END:STANDARD
BEGIN:DAYLIGHT
DTSTART:20230312T020000Z
TZOFFSETFROM:-0600
TZOFFSETTO:-0500
END:DAYLIGHT
END:VTIMEZONE
BEGIN:VTIMEZONE
TZID:UTC
BEGIN:STANDARD
DTSTART:20250725T232924Z
TZOFFSETFROM:+0000
TZOFFSETTO:+0000
END:STANDARD
END:VTIMEZONE
BEGIN:VEVENT
UID:248-13
DTSTAMP:20260421T232924Z
SUMMARY:Holy Hour
LOCATION:Church 6150 Roft Road  San Antonio Texas 78253
ORGANIZER;CN=samcsa:MAILTO:valerie.s.garcia@icloud.com
RRULE:FREQ=WEEKLY;UNTIL=20221231T000000Z
DTSTART;TZID=America/Chicago:20221226T183000
DTEND;TZID=America/Chicago:20221226T193000
X-ALT-DESC;FMTTYPE=TEXT/HTML:Followed by Mass at 7:30 p.m.
CATEGORIES:Parish events
URL;VALUE=URI:https://samcsa.com/mc-events/holy-hour/?mc_id=248
METHOD:PUBLISH
END:VEVENT
END:VCALENDAR