BEGIN:VCALENDAR
VERSION:2.0
PRODID:spatie/icalendar-generator
DESCRIPTION:Events from St. Anthony Mary Claret Roman Catholic Church
X-WR-CALDESC:Events from St. Anthony Mary Claret Roman Catholic Church
REFRESH-INTERVAL;VALUE=DURATION:PT1440M
X-PUBLISHED-TTL:PT1440M
BEGIN:VTIMEZONE
TZID:America/Chicago
BEGIN:STANDARD
DTSTART:20221106T020000Z
TZOFFSETFROM:-0500
TZOFFSETTO:-0600
END:STANDARD
BEGIN:DAYLIGHT
DTSTART:20230312T020000Z
TZOFFSETFROM:-0600
TZOFFSETTO:-0500
END:DAYLIGHT
BEGIN:STANDARD
DTSTART:20231105T020000Z
TZOFFSETFROM:-0500
TZOFFSETTO:-0600
END:STANDARD
END:VTIMEZONE
BEGIN:VTIMEZONE
TZID:UTC
BEGIN:STANDARD
DTSTART:20250726T222321Z
TZOFFSETFROM:+0000
TZOFFSETTO:+0000
END:STANDARD
END:VTIMEZONE
BEGIN:VEVENT
UID:2650-615
DTSTAMP:20260422T222321Z
SUMMARY:Fiat Mom's Retreat
LOCATION:N/A
ORGANIZER;CN=samcsa:MAILTO:valerie.s.garcia@icloud.com
DTSTART;TZID=America/Chicago;VALUE=DATE:20230519
DTEND;TZID=America/Chicago;VALUE=DATE:20230520
X-ALT-DESC;FMTTYPE=TEXT/HTML:Motherhood is the best and most exhausti
 ng blessing. Whether you are a new mom in the thick of it wit
 h young children or you have teenagers and young adults (or eve
 n full grown adults) you need time to rest and fill your heart
  and soul!  Join us for our first Fiat Mom’s Retreat! Our go
 al for this retreat is to help moms live out their vocational 
 fiat. We are all called to say yes to the Lord wholeheartedly 
 like Mary did\, especially in our vocations as wives and mothers
 \, but it starts in our identity as His beloved daughters. This
  year's theme is \"rebuilding your foundation\". 
CATEGORIES:Community events
URL;VALUE=URI:https://samcsa.com/mc-events/fiat-moms-retreat/
METHOD:PUBLISH
END:VEVENT
END:VCALENDAR