BEGIN:VCALENDAR
VERSION:2.0
PRODID:spatie/icalendar-generator
DESCRIPTION:Events from St. Anthony Mary Claret Roman Catholic Church
X-WR-CALDESC:Events from St. Anthony Mary Claret Roman Catholic Church
REFRESH-INTERVAL;VALUE=DURATION:PT1440M
X-PUBLISHED-TTL:PT1440M
BEGIN:VTIMEZONE
TZID:America/Chicago
BEGIN:STANDARD
DTSTART:20221106T020000Z
TZOFFSETFROM:-0500
TZOFFSETTO:-0600
END:STANDARD
BEGIN:DAYLIGHT
DTSTART:20230312T020000Z
TZOFFSETFROM:-0600
TZOFFSETTO:-0500
END:DAYLIGHT
END:VTIMEZONE
BEGIN:VTIMEZONE
TZID:UTC
BEGIN:STANDARD
DTSTART:20250726T100443Z
TZOFFSETFROM:+0000
TZOFFSETTO:+0000
END:STANDARD
END:VTIMEZONE
BEGIN:VEVENT
UID:2653-618
DTSTAMP:20260422T100443Z
SUMMARY:Service and Spirituality: A Day of Reflection
LOCATION:N/A
ORGANIZER;CN=samcsa:MAILTO:valerie.s.garcia@icloud.com
DTSTART;TZID=America/Chicago;VALUE=DATE:20230422
DTEND;TZID=America/Chicago;VALUE=DATE:20230423
X-ALT-DESC;FMTTYPE=TEXT/HTML:Spiritual reflection often stirs the emotions 
 and enkindles deep desires. In reflection\, we can imagine ourselves in a
  setting from the Gospels or in a scene proposed by Ignatius. In reflectio
 n\, we pray with Scripture. Join Bishop Gary W. Janak and Criminal Just
 ice Ministry for this free Day of Reflection including Mass\, lunch\, tes
 timonies from ex-offenders\, and presentations from Fr. Krikor&amp;hellip\;
CATEGORIES:Community events
URL;VALUE=URI:https://samcsa.com/mc-events/service-and-spirituality-a-day-o
 f-reflection/
METHOD:PUBLISH
END:VEVENT
END:VCALENDAR