BEGIN:VCALENDAR
VERSION:2.0
PRODID:spatie/icalendar-generator
DESCRIPTION:Events from St. Anthony Mary Claret Roman Catholic Church
X-WR-CALDESC:Events from St. Anthony Mary Claret Roman Catholic Church
REFRESH-INTERVAL;VALUE=DURATION:PT1440M
X-PUBLISHED-TTL:PT1440M
BEGIN:VTIMEZONE
TZID:America/Chicago
BEGIN:STANDARD
DTSTART:20221106T020000Z
TZOFFSETFROM:-0500
TZOFFSETTO:-0600
END:STANDARD
BEGIN:DAYLIGHT
DTSTART:20230312T020000Z
TZOFFSETFROM:-0600
TZOFFSETTO:-0500
END:DAYLIGHT
BEGIN:STANDARD
DTSTART:20231105T020000Z
TZOFFSETFROM:-0500
TZOFFSETTO:-0600
END:STANDARD
END:VTIMEZONE
BEGIN:VTIMEZONE
TZID:UTC
BEGIN:STANDARD
DTSTART:20250726T222646Z
TZOFFSETFROM:+0000
TZOFFSETTO:+0000
END:STANDARD
END:VTIMEZONE
BEGIN:VEVENT
UID:2671-636
DTSTAMP:20260422T222646Z
SUMMARY:Archbishop's Prayer Breakfast
LOCATION:N/A
ORGANIZER;CN=samcsa:MAILTO:valerie.s.garcia@icloud.com
DTSTART;TZID=America/Chicago:20230530T073000
DTEND;TZID=America/Chicago:20230530T083000
X-ALT-DESC;FMTTYPE=TEXT/HTML:Join us for breakfast with Archbishop Gustavo 
 as we break bread as a unified community. Our Guest Speaker\, Dr. Pat Cast
 le\, is the Founder of LIFE Runners and has inspired people across the glo
 be in 44 nations and 3\,367 cities to be witnesses for the protection of t
 he most vulnerable.
CATEGORIES:Community events
URL;VALUE=URI:https://samcsa.com/mc-events/archbishops-prayer-breakfast-2/
METHOD:PUBLISH
END:VEVENT
END:VCALENDAR