BEGIN:VCALENDAR
VERSION:2.0
PRODID:spatie/icalendar-generator
DESCRIPTION:Events from St. Anthony Mary Claret Roman Catholic Church
X-WR-CALDESC:Events from St. Anthony Mary Claret Roman Catholic Church
REFRESH-INTERVAL;VALUE=DURATION:PT1440M
X-PUBLISHED-TTL:PT1440M
BEGIN:VTIMEZONE
TZID:America/Chicago
BEGIN:STANDARD
DTSTART:20221106T020000Z
TZOFFSETFROM:-0500
TZOFFSETTO:-0600
END:STANDARD
BEGIN:DAYLIGHT
DTSTART:20230312T020000Z
TZOFFSETFROM:-0600
TZOFFSETTO:-0500
END:DAYLIGHT
BEGIN:STANDARD
DTSTART:20231105T020000Z
TZOFFSETFROM:-0500
TZOFFSETTO:-0600
END:STANDARD
END:VTIMEZONE
BEGIN:VTIMEZONE
TZID:UTC
BEGIN:STANDARD
DTSTART:20250726T222525Z
TZOFFSETFROM:+0000
TZOFFSETTO:+0000
END:STANDARD
END:VTIMEZONE
BEGIN:VEVENT
UID:2684-649
DTSTAMP:20260422T222525Z
SUMMARY:Kickball &amp;amp\; Clerics
LOCATION:N/A
ORGANIZER;CN=samcsa:MAILTO:valerie.s.garcia@icloud.com
DTSTART;TZID=America/Chicago:20230510T180000
DTEND;TZID=America/Chicago:20230510T190000
X-ALT-DESC;FMTTYPE=TEXT/HTML:MAY 10\, 2023 ● FREE EVENT LET US KNOW THAT 
 YOU ARE COMING \; MORE INFO HERE VOCATIONS@ARCHSA.ORG ● 210-735-0553 MAS
 S 6PM—GAME TIME 7PM * * DOOR PRIZES * * St. Luke’s Catholic Church 460
 3 Manitou Dr\, San Antonio\, TX 78228
CATEGORIES:Community events
URL;VALUE=URI:https://samcsa.com/mc-events/kickball-clerics/
METHOD:PUBLISH
END:VEVENT
END:VCALENDAR