BEGIN:VCALENDAR
VERSION:2.0
PRODID:spatie/icalendar-generator
DESCRIPTION:Events from St. Anthony Mary Claret Roman Catholic Church
X-WR-CALDESC:Events from St. Anthony Mary Claret Roman Catholic Church
REFRESH-INTERVAL;VALUE=DURATION:PT1440M
X-PUBLISHED-TTL:PT1440M
BEGIN:VTIMEZONE
TZID:America/Chicago
BEGIN:STANDARD
DTSTART:20221106T020000Z
TZOFFSETFROM:-0500
TZOFFSETTO:-0600
END:STANDARD
BEGIN:DAYLIGHT
DTSTART:20230312T020000Z
TZOFFSETFROM:-0600
TZOFFSETTO:-0500
END:DAYLIGHT
BEGIN:STANDARD
DTSTART:20231105T020000Z
TZOFFSETFROM:-0500
TZOFFSETTO:-0600
END:STANDARD
END:VTIMEZONE
BEGIN:VTIMEZONE
TZID:UTC
BEGIN:STANDARD
DTSTART:20250726T153625Z
TZOFFSETFROM:+0000
TZOFFSETTO:+0000
END:STANDARD
END:VTIMEZONE
BEGIN:VEVENT
UID:2814-731
DTSTAMP:20260422T153625Z
SUMMARY:Exhibition: Who Is the Man of the Shroud?
LOCATION:N/A
ORGANIZER;CN=samcsa:MAILTO:valerie.s.garcia@icloud.com
DTSTART;TZID=America/Chicago:20230609T100000
DTEND;TZID=America/Chicago:20230609T110000
X-ALT-DESC;FMTTYPE=TEXT/HTML:You are invited to take a journey of discovery
  through history\, science\, art\, faith &amp;amp\; beyond… permanently in S
 an Antonio\, Texas. Explore an unsolved mystery—the Shroud of Turin\, an
  ancient\, linen cloth bearing the image of a tortured and crucified man
 ’s body\; the most studied relic in the world. “Who Is the Man of the&amp;
 hellip\;
CATEGORIES:Community events
URL;VALUE=URI:https://samcsa.com/mc-events/exhibition-who-is-the-man-of-the
 -shroud/
METHOD:PUBLISH
END:VEVENT
END:VCALENDAR