BEGIN:VCALENDAR
VERSION:2.0
PRODID:spatie/icalendar-generator
DESCRIPTION:Events from St. Anthony Mary Claret Roman Catholic Church
X-WR-CALDESC:Events from St. Anthony Mary Claret Roman Catholic Church
REFRESH-INTERVAL;VALUE=DURATION:PT1440M
X-PUBLISHED-TTL:PT1440M
BEGIN:VTIMEZONE
TZID:America/Chicago
BEGIN:DAYLIGHT
DTSTART:20230312T020000Z
TZOFFSETFROM:-0600
TZOFFSETTO:-0500
END:DAYLIGHT
BEGIN:STANDARD
DTSTART:20231105T020000Z
TZOFFSETFROM:-0500
TZOFFSETTO:-0600
END:STANDARD
BEGIN:DAYLIGHT
DTSTART:20240310T020000Z
TZOFFSETFROM:-0600
TZOFFSETTO:-0500
END:DAYLIGHT
END:VTIMEZONE
BEGIN:VTIMEZONE
TZID:UTC
BEGIN:STANDARD
DTSTART:20250726T050959Z
TZOFFSETFROM:+0000
TZOFFSETTO:+0000
END:STANDARD
END:VTIMEZONE
BEGIN:VEVENT
UID:2946-830
DTSTAMP:20260422T050959Z
SUMMARY:2nd Year First Communion Parent Orientation (1 of 2)
LOCATION:Hubertus Hall 6150 Roft Road  San Antonio Texas 78253
ORGANIZER;CN=samcsa:MAILTO:valerie.s.garcia@icloud.com
DTSTART;TZID=America/Chicago:20230930T100000
DTEND;TZID=America/Chicago:20230930T110000
X-ALT-DESC;FMTTYPE=TEXT/HTML:Saturday\, September 30 2nd Year First Communi
 on Parent Orientation (1 of 2) Hubertus Hall\, 10 a.m. One parent should a
 ttend.
CATEGORIES:Parish events
URL;VALUE=URI:https://samcsa.com/mc-events/2nd-year-first-communion-parent-
 orientation-1-of-2/
METHOD:PUBLISH
END:VEVENT
END:VCALENDAR