BEGIN:VCALENDAR
VERSION:2.0
PRODID:spatie/icalendar-generator
DESCRIPTION:Events from St. Anthony Mary Claret Roman Catholic Church
X-WR-CALDESC:Events from St. Anthony Mary Claret Roman Catholic Church
REFRESH-INTERVAL;VALUE=DURATION:PT1440M
X-PUBLISHED-TTL:PT1440M
BEGIN:VTIMEZONE
TZID:America/Chicago
BEGIN:STANDARD
DTSTART:20231105T020000Z
TZOFFSETFROM:-0500
TZOFFSETTO:-0600
END:STANDARD
BEGIN:DAYLIGHT
DTSTART:20240310T020000Z
TZOFFSETFROM:-0600
TZOFFSETTO:-0500
END:DAYLIGHT
BEGIN:STANDARD
DTSTART:20241103T020000Z
TZOFFSETFROM:-0500
TZOFFSETTO:-0600
END:STANDARD
END:VTIMEZONE
BEGIN:VTIMEZONE
TZID:UTC
BEGIN:STANDARD
DTSTART:20250725T214543Z
TZOFFSETFROM:+0000
TZOFFSETTO:+0000
END:STANDARD
END:VTIMEZONE
BEGIN:VEVENT
UID:2992-865
DTSTAMP:20260421T214543Z
SUMMARY:Young Adult Ministry meeting
LOCATION:Building B (Religious Education Building) 6150 Roft Road  San Anto
 nio Texas 78253
ORGANIZER;CN=samcsa:MAILTO:valerie.s.garcia@icloud.com
RRULE:FREQ=MONTHLY;BYDAY=2TH;UNTIL=20240731T000000Z
DTSTART;TZID=America/Chicago:20240711T190000
DTEND;TZID=America/Chicago:20240711T200000
X-ALT-DESC;FMTTYPE=TEXT/HTML:St. Anthony Mary Claret’s Young Adult Minist
 ry is open to those who are 18 – 33 (single\, married\, with children\, 
 etc.) who want to cultivate a vibrant community of faith\, fellowship\, an
 d service. We meet the 2nd Thursday of the month from 7pm to 9pm in the Re
 ligious Education Building Room 1006. On occasion meetings&amp;hellip\;
CATEGORIES:Parish events
URL;VALUE=URI:https://samcsa.com/mc-events/young-adult-ministry-meeting/?mc
 _id=2992
METHOD:PUBLISH
END:VEVENT
END:VCALENDAR