BEGIN:VCALENDAR
VERSION:2.0
PRODID:spatie/icalendar-generator
DESCRIPTION:Events from St. Anthony Mary Claret Roman Catholic Church
X-WR-CALDESC:Events from St. Anthony Mary Claret Roman Catholic Church
REFRESH-INTERVAL;VALUE=DURATION:PT1440M
X-PUBLISHED-TTL:PT1440M
BEGIN:VTIMEZONE
TZID:America/Chicago
BEGIN:DAYLIGHT
DTSTART:20230312T020000Z
TZOFFSETFROM:-0600
TZOFFSETTO:-0500
END:DAYLIGHT
BEGIN:STANDARD
DTSTART:20231105T020000Z
TZOFFSETFROM:-0500
TZOFFSETTO:-0600
END:STANDARD
BEGIN:DAYLIGHT
DTSTART:20240310T020000Z
TZOFFSETFROM:-0600
TZOFFSETTO:-0500
END:DAYLIGHT
END:VTIMEZONE
BEGIN:VTIMEZONE
TZID:UTC
BEGIN:STANDARD
DTSTART:20250726T195913Z
TZOFFSETFROM:+0000
TZOFFSETTO:+0000
END:STANDARD
END:VTIMEZONE
BEGIN:VEVENT
UID:3039-912
DTSTAMP:20260422T195913Z
SUMMARY:Children’s choir registration
LOCATION:Church 6150 Roft Road  San Antonio Texas 78253
ORGANIZER;CN=samcsa:MAILTO:valerie.s.garcia@icloud.com
DTSTART;TZID=America/Chicago;VALUE=DATE:20230910
DTEND;TZID=America/Chicago;VALUE=DATE:20230911
X-ALT-DESC;FMTTYPE=TEXT/HTML:Registration for the 2023-2024 Saint Anthony M
 ary Claret Children’s choir will take place on Sunday\, September 10th a
 fter the 8am\, 10am\, 12pm and 6pm masses. Children from the ages of 6- 12
  may participate in the choir. Rehearsals are held on Thursdays from 5:30p
 m-6:30pm in the church. Rehearsals will begin on Thursday\, September 14th
 . You&amp;hellip\;
CATEGORIES:Parish events
URL;VALUE=URI:https://samcsa.com/mc-events/childrens-choir-registration-2/
METHOD:PUBLISH
END:VEVENT
END:VCALENDAR