BEGIN:VCALENDAR
VERSION:2.0
PRODID:spatie/icalendar-generator
DESCRIPTION:Events from St. Anthony Mary Claret Roman Catholic Church
X-WR-CALDESC:Events from St. Anthony Mary Claret Roman Catholic Church
REFRESH-INTERVAL;VALUE=DURATION:PT1440M
X-PUBLISHED-TTL:PT1440M
BEGIN:VTIMEZONE
TZID:America/Chicago
BEGIN:DAYLIGHT
DTSTART:20230312T020000Z
TZOFFSETFROM:-0600
TZOFFSETTO:-0500
END:DAYLIGHT
BEGIN:STANDARD
DTSTART:20231105T020000Z
TZOFFSETFROM:-0500
TZOFFSETTO:-0600
END:STANDARD
BEGIN:DAYLIGHT
DTSTART:20240310T020000Z
TZOFFSETFROM:-0600
TZOFFSETTO:-0500
END:DAYLIGHT
END:VTIMEZONE
BEGIN:VTIMEZONE
TZID:UTC
BEGIN:STANDARD
DTSTART:20250725T225826Z
TZOFFSETFROM:+0000
TZOFFSETTO:+0000
END:STANDARD
END:VTIMEZONE
BEGIN:VEVENT
UID:3206-948
DTSTAMP:20260421T225826Z
SUMMARY:Be A Saint
LOCATION:N/A
ORGANIZER;CN=samcsa:MAILTO:valerie.s.garcia@icloud.com
RRULE:FREQ=DAILY;UNTIL=20231105T000000Z
DTSTART;TZID=America/Chicago;VALUE=DATE:20231105
DTEND;TZID=America/Chicago;VALUE=DATE:20231106
X-ALT-DESC;FMTTYPE=TEXT/HTML:This is a weekend for the whole family! Taking
  place Friday\, November 3rd\, through Sunday\, November 5th this retreat 
 is designed to be an opportunity for your family to gather with other fait
 hful Catholic families to create lasting memories\, learn more about our S
 avior and His design for holiness\, the family\, and you.
CATEGORIES:Community events
URL;VALUE=URI:https://samcsa.com/mc-events/be-a-saint/?mc_id=3206
METHOD:PUBLISH
END:VEVENT
END:VCALENDAR