BEGIN:VCALENDAR
VERSION:2.0
PRODID:spatie/icalendar-generator
DESCRIPTION:Events from St. Anthony Mary Claret Roman Catholic Church
X-WR-CALDESC:Events from St. Anthony Mary Claret Roman Catholic Church
REFRESH-INTERVAL;VALUE=DURATION:PT1440M
X-PUBLISHED-TTL:PT1440M
BEGIN:VTIMEZONE
TZID:America/Chicago
BEGIN:STANDARD
DTSTART:20251102T020000Z
TZOFFSETFROM:-0500
TZOFFSETTO:-0600
END:STANDARD
BEGIN:DAYLIGHT
DTSTART:20260308T020000Z
TZOFFSETFROM:-0600
TZOFFSETTO:-0500
END:DAYLIGHT
END:VTIMEZONE
BEGIN:VTIMEZONE
TZID:UTC
BEGIN:STANDARD
DTSTART:20250726T013152Z
TZOFFSETFROM:+0000
TZOFFSETTO:+0000
END:STANDARD
END:VTIMEZONE
BEGIN:VEVENT
UID:3977-491
DTSTAMP:20260422T013152Z
SUMMARY:Bilingual Holy Hour for Vocations
LOCATION:Church 6150 Roft Road  San Antonio Texas 78253
ORGANIZER;CN=samcsa:MAILTO:valerie.s.garcia@icloud.com
RRULE:FREQ=MONTHLY;BYDAY=1TH;UNTIL=20251231T000000Z
DTSTART;TZID=America/Chicago:20251204T183000
DTEND;TZID=America/Chicago:20251204T193000
X-ALT-DESC;FMTTYPE=TEXT/HTML:Holy Hour at 6:30 p.m.\, followed by Mass at 
 7:30 p.m.
CATEGORIES:Parish events
URL;VALUE=URI:https://samcsa.com/mc-events/bilingual-holy-hour-for-vocation
 s-2/?mc_id=3977
METHOD:PUBLISH
END:VEVENT
END:VCALENDAR