BEGIN:VCALENDAR
VERSION:2.0
PRODID:spatie/icalendar-generator
DESCRIPTION:Events from St. Anthony Mary Claret Roman Catholic Church
X-WR-CALDESC:Events from St. Anthony Mary Claret Roman Catholic Church
REFRESH-INTERVAL;VALUE=DURATION:PT1440M
X-PUBLISHED-TTL:PT1440M
BEGIN:VTIMEZONE
TZID:America/Chicago
BEGIN:STANDARD
DTSTART:20221106T020000Z
TZOFFSETFROM:-0500
TZOFFSETTO:-0600
END:STANDARD
BEGIN:DAYLIGHT
DTSTART:20230312T020000Z
TZOFFSETFROM:-0600
TZOFFSETTO:-0500
END:DAYLIGHT
END:VTIMEZONE
BEGIN:VTIMEZONE
TZID:UTC
BEGIN:STANDARD
DTSTART:20250725T212857Z
TZOFFSETFROM:+0000
TZOFFSETTO:+0000
END:STANDARD
END:VTIMEZONE
BEGIN:VEVENT
UID:419-21
DTSTAMP:20260421T212857Z
SUMMARY:Pantry restocking
LOCATION:Building A (Pantry &amp;amp\; Gabriel Project) 6150 Roft Road  San Ant
 onio Texas 78253
ORGANIZER;CN=samcsa:MAILTO:valerie.s.garcia@icloud.com
DTSTART;TZID=America/Chicago:20221227T080000
DTEND;TZID=America/Chicago:20221227T100000
X-ALT-DESC;FMTTYPE=TEXT/HTML:The SAC Pantry is staffed by church members wh
 o have joined together in service to our neighbors in need. Restocking the
  food pantry and performing other office work is accomplished every Tuesda
 y morning from 8:00 a.m. to 10:00 a.m.
CATEGORIES:Parish events
URL;VALUE=URI:https://samcsa.com/mc-events/pantry-restocking/
METHOD:PUBLISH
END:VEVENT
END:VCALENDAR