BEGIN:VCALENDAR
VERSION:2.0
PRODID:spatie/icalendar-generator
DESCRIPTION:Events from St. Anthony Mary Claret Roman Catholic Church
X-WR-CALDESC:Events from St. Anthony Mary Claret Roman Catholic Church
REFRESH-INTERVAL;VALUE=DURATION:PT1440M
X-PUBLISHED-TTL:PT1440M
BEGIN:VTIMEZONE
TZID:America/Chicago
BEGIN:STANDARD
DTSTART:20211107T020000Z
TZOFFSETFROM:-0500
TZOFFSETTO:-0600
END:STANDARD
BEGIN:DAYLIGHT
DTSTART:20220313T020000Z
TZOFFSETFROM:-0600
TZOFFSETTO:-0500
END:DAYLIGHT
BEGIN:STANDARD
DTSTART:20221106T020000Z
TZOFFSETFROM:-0500
TZOFFSETTO:-0600
END:STANDARD
END:VTIMEZONE
BEGIN:VTIMEZONE
TZID:UTC
BEGIN:STANDARD
DTSTART:20250726T191536Z
TZOFFSETFROM:+0000
TZOFFSETTO:+0000
END:STANDARD
END:VTIMEZONE
BEGIN:VEVENT
UID:540-39
DTSTAMP:20260422T191536Z
SUMMARY:Strong Catholic Marriage Workshop
LOCATION:
ORGANIZER;CN=samcsa:MAILTO:valerie.s.garcia@icloud.com
DTSTART;TZID=America/Chicago:20220611T083000
DTEND;TZID=America/Chicago:20220611T163000
X-ALT-DESC;FMTTYPE=TEXT/HTML:The Enjoy Your Marriage Seminar is proving to 
 be an effective catalyst that has been inspiring couples to initiate posit
 ive change in their marriage. Whether you are engaged\, have a great marri
 age or experiencing trouble in your marriage\, you will leave with a renew
 ed sense of hope and encouragement!
CATEGORIES:Community events
URL;VALUE=URI:https://samcsa.com/mc-events/strong-catholic-marriage-worksho
 p/
METHOD:PUBLISH
END:VEVENT
END:VCALENDAR