BEGIN:VCALENDAR
VERSION:2.0
PRODID:spatie/icalendar-generator
DESCRIPTION:Events from St. Anthony Mary Claret Roman Catholic Church
X-WR-CALDESC:Events from St. Anthony Mary Claret Roman Catholic Church
REFRESH-INTERVAL;VALUE=DURATION:PT1440M
X-PUBLISHED-TTL:PT1440M
BEGIN:VTIMEZONE
TZID:America/Chicago
BEGIN:STANDARD
DTSTART:20251102T020000Z
TZOFFSETFROM:-0500
TZOFFSETTO:-0600
END:STANDARD
BEGIN:DAYLIGHT
DTSTART:20260308T020000Z
TZOFFSETFROM:-0600
TZOFFSETTO:-0500
END:DAYLIGHT
BEGIN:STANDARD
DTSTART:20261101T020000Z
TZOFFSETFROM:-0500
TZOFFSETTO:-0600
END:STANDARD
END:VTIMEZONE
BEGIN:VTIMEZONE
TZID:UTC
BEGIN:STANDARD
DTSTART:20250725T102954Z
TZOFFSETFROM:+0000
TZOFFSETTO:+0000
END:STANDARD
END:VTIMEZONE
BEGIN:VEVENT
UID:5825-1157
DTSTAMP:20260421T102954Z
SUMMARY:Our Lady of Fatima Rosary &amp;amp\; Prayers
LOCATION:N/A
ORGANIZER;CN=samcsa:MAILTO:valerie.s.garcia@icloud.com
RRULE:FREQ=MONTHLY;BYDAY=2TU;UNTIL=20260715T000000Z
DTSTART;TZID=America/Chicago:20260512T120000
DTEND;TZID=America/Chicago:20260512T130000
X-ALT-DESC;FMTTYPE=TEXT/HTML:OUR LADY OF FATIMA ROSARY AND PRAYERS 2nd Tue
 sday of every month at 12 noon
CATEGORIES:Community events
URL;VALUE=URI:https://samcsa.com/mc-events/our-lady-of-fatima-rosary-prayer
 s-2/?mc_id=5825
METHOD:PUBLISH
END:VEVENT
END:VCALENDAR