BEGIN:VCALENDAR
VERSION:2.0
PRODID:spatie/icalendar-generator
DESCRIPTION:Events from St. Anthony Mary Claret Roman Catholic Church
X-WR-CALDESC:Events from St. Anthony Mary Claret Roman Catholic Church
REFRESH-INTERVAL;VALUE=DURATION:PT1440M
X-PUBLISHED-TTL:PT1440M
BEGIN:VTIMEZONE
TZID:America/Chicago
BEGIN:STANDARD
DTSTART:20211107T020000Z
TZOFFSETFROM:-0500
TZOFFSETTO:-0600
END:STANDARD
BEGIN:DAYLIGHT
DTSTART:20220313T020000Z
TZOFFSETFROM:-0600
TZOFFSETTO:-0500
END:DAYLIGHT
BEGIN:STANDARD
DTSTART:20221106T020000Z
TZOFFSETFROM:-0500
TZOFFSETTO:-0600
END:STANDARD
END:VTIMEZONE
BEGIN:VTIMEZONE
TZID:UTC
BEGIN:STANDARD
DTSTART:20250726T081004Z
TZOFFSETFROM:+0000
TZOFFSETTO:+0000
END:STANDARD
END:VTIMEZONE
BEGIN:VEVENT
UID:604-67
DTSTAMP:20260422T081004Z
SUMMARY:Lector Training
LOCATION:Church 6150 Roft Road  San Antonio Texas 78253
ORGANIZER;CN=samcsa:MAILTO:valerie.s.garcia@icloud.com
DTSTART;TZID=America/Chicago:20220601T190000
DTEND;TZID=America/Chicago:20220601T200000
X-ALT-DESC;FMTTYPE=TEXT/HTML:Lector Training/Formación Lector for anyone i
 nterested in becoming a lector/para cualquier persona interesada en conver
 tirse en un lector. Wednesday\, June 1\, 7 pm in the church Miércoles\, 1
  de Junio\, a las 7 pm en la iglesia. For info\, contact/para información
  póngase en contacto con Scott Kollmansberger: (210) 273-2297.
CATEGORIES:Parish events
URL;VALUE=URI:https://samcsa.com/mc-events/lector-training/
METHOD:PUBLISH
END:VEVENT
END:VCALENDAR