BEGIN:VCALENDAR
VERSION:2.0
PRODID:spatie/icalendar-generator
DESCRIPTION:Events from St. Anthony Mary Claret Roman Catholic Church
X-WR-CALDESC:Events from St. Anthony Mary Claret Roman Catholic Church
REFRESH-INTERVAL;VALUE=DURATION:PT1440M
X-PUBLISHED-TTL:PT1440M
BEGIN:VTIMEZONE
TZID:America/Chicago
BEGIN:DAYLIGHT
DTSTART:20220313T020000Z
TZOFFSETFROM:-0600
TZOFFSETTO:-0500
END:DAYLIGHT
BEGIN:STANDARD
DTSTART:20221106T020000Z
TZOFFSETFROM:-0500
TZOFFSETTO:-0600
END:STANDARD
END:VTIMEZONE
BEGIN:VTIMEZONE
TZID:UTC
BEGIN:STANDARD
DTSTART:20250726T180339Z
TZOFFSETFROM:+0000
TZOFFSETTO:+0000
END:STANDARD
END:VTIMEZONE
BEGIN:VEVENT
UID:651-85
DTSTAMP:20260422T180339Z
SUMMARY:Fullness of Truth San Antonio Benefit Dinner
LOCATION:
ORGANIZER;CN=samcsa:MAILTO:valerie.s.garcia@icloud.com
DTSTART;TZID=America/Chicago:20220820T180000
DTEND;TZID=America/Chicago:20220820T190000
X-ALT-DESC;FMTTYPE=TEXT/HTML:We’re excited to share with you details on t
 he Fullness of Truth San Antonio Benefit Dinner\, which will take place
  during the weekend of our 16th Annual Family Conference. The dinner will
  take place on Saturday\, August 20\, 2022\, at 6 PM at the Hyatt Hill Cou
 ntry Resort.
CATEGORIES:Community events
URL;VALUE=URI:https://samcsa.com/mc-events/fullness-of-truth-san-antonio-be
 nefit-dinner/
METHOD:PUBLISH
END:VEVENT
END:VCALENDAR