BEGIN:VCALENDAR
VERSION:2.0
PRODID:spatie/icalendar-generator
DESCRIPTION:Events from St. Anthony Mary Claret Roman Catholic Church
X-WR-CALDESC:Events from St. Anthony Mary Claret Roman Catholic Church
REFRESH-INTERVAL;VALUE=DURATION:PT1440M
X-PUBLISHED-TTL:PT1440M
BEGIN:VTIMEZONE
TZID:America/Chicago
BEGIN:STANDARD
DTSTART:20251102T020000Z
TZOFFSETFROM:-0500
TZOFFSETTO:-0600
END:STANDARD
BEGIN:DAYLIGHT
DTSTART:20260308T020000Z
TZOFFSETFROM:-0600
TZOFFSETTO:-0500
END:DAYLIGHT
END:VTIMEZONE
BEGIN:VTIMEZONE
TZID:UTC
BEGIN:STANDARD
DTSTART:20250725T121754Z
TZOFFSETFROM:+0000
TZOFFSETTO:+0000
END:STANDARD
END:VTIMEZONE
BEGIN:VEVENT
UID:6975-1984
DTSTAMP:20260421T121754Z
SUMMARY:LSAMC Luncheon Meeting
LOCATION:Hubertus Hall 6150 Roft Road  San Antonio Texas 78253
ORGANIZER;CN=samcsa:MAILTO:valerie.s.garcia@icloud.com
DTSTART;TZID=America/Chicago:20260419T120000
DTEND;TZID=America/Chicago:20260419T130000
X-ALT-DESC;FMTTYPE=TEXT/HTML:
CATEGORIES:Parish events
URL;VALUE=URI:https://samcsa.com/mc-events/lsamc-luncheon-meeting/
METHOD:PUBLISH
END:VEVENT
END:VCALENDAR