BEGIN:VCALENDAR
VERSION:2.0
PRODID:spatie/icalendar-generator
DESCRIPTION:Events from St. Anthony Mary Claret Roman Catholic Church
X-WR-CALDESC:Events from St. Anthony Mary Claret Roman Catholic Church
REFRESH-INTERVAL;VALUE=DURATION:PT1440M
X-PUBLISHED-TTL:PT1440M
BEGIN:VTIMEZONE
TZID:America/Chicago
BEGIN:STANDARD
DTSTART:20251102T020000Z
TZOFFSETFROM:-0500
TZOFFSETTO:-0600
END:STANDARD
BEGIN:DAYLIGHT
DTSTART:20260308T020000Z
TZOFFSETFROM:-0600
TZOFFSETTO:-0500
END:DAYLIGHT
END:VTIMEZONE
BEGIN:VTIMEZONE
TZID:UTC
BEGIN:STANDARD
DTSTART:20250725T121755Z
TZOFFSETFROM:+0000
TZOFFSETTO:+0000
END:STANDARD
END:VTIMEZONE
BEGIN:VEVENT
UID:6984-1991
DTSTAMP:20260421T121755Z
SUMMARY:Vacation Bible School Registration
LOCATION:N/A
ORGANIZER;CN=samcsa:MAILTO:valerie.s.garcia@icloud.com
RRULE:FREQ=DAILY;UNTIL=20260515T000000Z
DTSTART;TZID=America/Chicago;VALUE=DATE:20260420
DTEND;TZID=America/Chicago;VALUE=DATE:20260421
X-ALT-DESC;FMTTYPE=TEXT/HTML:
CATEGORIES:Parish events
URL;VALUE=URI:https://samcsa.com/mc-events/vacation-bible-school-registrati
 on/?mc_id=6984
METHOD:PUBLISH
END:VEVENT
END:VCALENDAR