BEGIN:VCALENDAR
VERSION:2.0
PRODID:spatie/icalendar-generator
DESCRIPTION:Events from St. Anthony Mary Claret Roman Catholic Church
X-WR-CALDESC:Events from St. Anthony Mary Claret Roman Catholic Church
REFRESH-INTERVAL;VALUE=DURATION:PT1440M
X-PUBLISHED-TTL:PT1440M
BEGIN:VTIMEZONE
TZID:America/Chicago
BEGIN:DAYLIGHT
DTSTART:20220313T020000Z
TZOFFSETFROM:-0600
TZOFFSETTO:-0500
END:DAYLIGHT
BEGIN:STANDARD
DTSTART:20221106T020000Z
TZOFFSETFROM:-0500
TZOFFSETTO:-0600
END:STANDARD
END:VTIMEZONE
BEGIN:VTIMEZONE
TZID:UTC
BEGIN:STANDARD
DTSTART:20250726T223452Z
TZOFFSETFROM:+0000
TZOFFSETTO:+0000
END:STANDARD
END:VTIMEZONE
BEGIN:VEVENT
UID:732-103
DTSTAMP:20260422T223452Z
SUMMARY:Religious Education registration
LOCATION:Building B (Religious Education Building) 6150 Roft Road  San Anto
 nio Texas 78253
ORGANIZER;CN=samcsa:MAILTO:valerie.s.garcia@icloud.com
DTSTART;TZID=America/Chicago;VALUE=DATE:20220820
DTEND;TZID=America/Chicago;VALUE=DATE:20220821
X-ALT-DESC;FMTTYPE=TEXT/HTML:Registration after all masses in the Religious
  Education building. Click here for details.
CATEGORIES:Parish events
URL;VALUE=URI:https://samcsa.com/mc-events/religious-education-registration
 -5/
METHOD:PUBLISH
END:VEVENT
END:VCALENDAR