BEGIN:VCALENDAR
VERSION:2.0
PRODID:spatie/icalendar-generator
DESCRIPTION:Events from St. Anthony Mary Claret Roman Catholic Church
X-WR-CALDESC:Events from St. Anthony Mary Claret Roman Catholic Church
REFRESH-INTERVAL;VALUE=DURATION:PT1440M
X-PUBLISHED-TTL:PT1440M
BEGIN:VTIMEZONE
TZID:America/Chicago
BEGIN:STANDARD
DTSTART:20211107T020000Z
TZOFFSETFROM:-0500
TZOFFSETTO:-0600
END:STANDARD
BEGIN:DAYLIGHT
DTSTART:20220313T020000Z
TZOFFSETFROM:-0600
TZOFFSETTO:-0500
END:DAYLIGHT
BEGIN:STANDARD
DTSTART:20221106T020000Z
TZOFFSETFROM:-0500
TZOFFSETTO:-0600
END:STANDARD
END:VTIMEZONE
BEGIN:VTIMEZONE
TZID:UTC
BEGIN:STANDARD
DTSTART:20250726T122218Z
TZOFFSETFROM:+0000
TZOFFSETTO:+0000
END:STANDARD
END:VTIMEZONE
BEGIN:VEVENT
UID:810-179
DTSTAMP:20260422T122218Z
SUMMARY:School Supply Drive
LOCATION:Church 6150 Roft Road  San Antonio Texas 78253
ORGANIZER;CN=samcsa:MAILTO:valerie.s.garcia@icloud.com
DTSTART;TZID=America/Chicago;VALUE=DATE:20220714
DTEND;TZID=America/Chicago;VALUE=DATE:20220729
X-ALT-DESC;FMTTYPE=TEXT/HTML:We’ll supply new backpacks\; you fill them! 
 Donate pencils\, loose leaf ruled paper\, folders\, spiral notebooks\, the
 me books\, pens\, pencils\, rounded scissors\, rulers\, erasers\, and glue
  sticks. Drop donations in the baskets in the narthex. Collection runs thr
 ough July 28.
CATEGORIES:Parish events
URL;VALUE=URI:https://samcsa.com/mc-events/school-supply-drive/
METHOD:PUBLISH
END:VEVENT
END:VCALENDAR