BEGIN:VCALENDAR
VERSION:2.0
PRODID:spatie/icalendar-generator
DESCRIPTION:Events from St. Anthony Mary Claret Roman Catholic Church
X-WR-CALDESC:Events from St. Anthony Mary Claret Roman Catholic Church
REFRESH-INTERVAL;VALUE=DURATION:PT1440M
X-PUBLISHED-TTL:PT1440M
BEGIN:VTIMEZONE
TZID:America/Chicago
BEGIN:DAYLIGHT
DTSTART:20220313T020000Z
TZOFFSETFROM:-0600
TZOFFSETTO:-0500
END:DAYLIGHT
BEGIN:STANDARD
DTSTART:20221106T020000Z
TZOFFSETFROM:-0500
TZOFFSETTO:-0600
END:STANDARD
END:VTIMEZONE
BEGIN:VTIMEZONE
TZID:UTC
BEGIN:STANDARD
DTSTART:20250726T101038Z
TZOFFSETFROM:+0000
TZOFFSETTO:+0000
END:STANDARD
END:VTIMEZONE
BEGIN:VEVENT
UID:812-181
DTSTAMP:20260422T101038Z
SUMMARY:Standing with Her Sunday
LOCATION:N/A
ORGANIZER;CN=samcsa:MAILTO:valerie.s.garcia@icloud.com
DTSTART;TZID=America/Chicago:20220828T190000
DTEND;TZID=America/Chicago:20220828T200000
X-ALT-DESC;FMTTYPE=TEXT/HTML:Discover how churches can ensure no woman stan
 ds alone in a post-Roe America. Sunday\, August 28th\, 2022 -- 7 PM CDT A
 ccess this event at www.Facebook.com/studentsforlife \; it will run for 
 approximately 90 minutes\, and will be recorded. “More than half of abor
 tion-seeking women identify as Christians. Add that to 73% of Americans no
 t knowing about non-violent pregnancy&amp;hellip\;
CATEGORIES:Community events
URL;VALUE=URI:https://samcsa.com/mc-events/standing-with-her-sunday/
METHOD:PUBLISH
END:VEVENT
END:VCALENDAR