BEGIN:VCALENDAR
VERSION:2.0
PRODID:spatie/icalendar-generator
DESCRIPTION:Events from St. Anthony Mary Claret Roman Catholic Church
X-WR-CALDESC:Events from St. Anthony Mary Claret Roman Catholic Church
REFRESH-INTERVAL;VALUE=DURATION:PT1440M
X-PUBLISHED-TTL:PT1440M
BEGIN:VTIMEZONE
TZID:America/Chicago
BEGIN:DAYLIGHT
DTSTART:20220313T020000Z
TZOFFSETFROM:-0600
TZOFFSETTO:-0500
END:DAYLIGHT
BEGIN:STANDARD
DTSTART:20221106T020000Z
TZOFFSETFROM:-0500
TZOFFSETTO:-0600
END:STANDARD
END:VTIMEZONE
BEGIN:VTIMEZONE
TZID:UTC
BEGIN:STANDARD
DTSTART:20250726T111918Z
TZOFFSETFROM:+0000
TZOFFSETTO:+0000
END:STANDARD
END:VTIMEZONE
BEGIN:VEVENT
UID:846-208
DTSTAMP:20260422T111918Z
SUMMARY:Silver Rose Mass
LOCATION:Church 6150 Roft Road  San Antonio Texas 78253
ORGANIZER;CN=samcsa:MAILTO:valerie.s.garcia@icloud.com
DTSTART;TZID=America/Chicago:20220826T190000
DTEND;TZID=America/Chicago:20220826T200000
X-ALT-DESC;FMTTYPE=TEXT/HTML:Silver Roses are stewarded by Knights of Colum
 bus along routes from Canada to Mexico. Every stop the Silver Rose makes t
 hroughout the pilgrimage is a rosary-centered occasion for Knights\, paris
 hioners and community members to pray for respect for life\, for the spiri
 tual renewal of each nation\, and for the advancement of the message of Ou
 r&amp;hellip\;
CATEGORIES:Parish events
URL;VALUE=URI:https://samcsa.com/mc-events/silver-rose-mass/
METHOD:PUBLISH
END:VEVENT
END:VCALENDAR