BEGIN:VCALENDAR
VERSION:2.0
PRODID:spatie/icalendar-generator
DESCRIPTION:Events from St. Anthony Mary Claret Roman Catholic Church
X-WR-CALDESC:Events from St. Anthony Mary Claret Roman Catholic Church
REFRESH-INTERVAL;VALUE=DURATION:PT1440M
X-PUBLISHED-TTL:PT1440M
BEGIN:VTIMEZONE
TZID:America/Chicago
BEGIN:DAYLIGHT
DTSTART:20220313T020000Z
TZOFFSETFROM:-0600
TZOFFSETTO:-0500
END:DAYLIGHT
BEGIN:STANDARD
DTSTART:20221106T020000Z
TZOFFSETFROM:-0500
TZOFFSETTO:-0600
END:STANDARD
BEGIN:DAYLIGHT
DTSTART:20230312T020000Z
TZOFFSETFROM:-0600
TZOFFSETTO:-0500
END:DAYLIGHT
END:VTIMEZONE
BEGIN:VTIMEZONE
TZID:UTC
BEGIN:STANDARD
DTSTART:20250726T231929Z
TZOFFSETFROM:+0000
TZOFFSETTO:+0000
END:STANDARD
END:VTIMEZONE
BEGIN:VEVENT
UID:874-218
DTSTAMP:20260422T231929Z
SUMMARY:Whiskey\, Cigars &amp;amp\; Jesus
LOCATION:
ORGANIZER;CN=samcsa:MAILTO:valerie.s.garcia@icloud.com
RRULE:FREQ=DAILY;UNTIL=20221009T000000Z
DTSTART;TZID=America/Chicago;VALUE=DATE:20221009
DTEND;TZID=America/Chicago;VALUE=DATE:20221010
X-ALT-DESC;FMTTYPE=TEXT/HTML:Back by popular DEMAND…Whiskey\, Cigars &amp;amp
 \; Jesus with Fr. Richard Goodin!!! Join us for our second WCJ Men’s ret
 reat October 7th - 9th at Sanctus Ranch Retreat Center.
CATEGORIES:Community events
URL;VALUE=URI:https://samcsa.com/mc-events/whiskey-cigars-jesus/?mc_id=874
METHOD:PUBLISH
END:VEVENT
END:VCALENDAR