BEGIN:VCALENDAR
VERSION:2.0
PRODID:spatie/icalendar-generator
DESCRIPTION:Events from St. Anthony Mary Claret Roman Catholic Church
X-WR-CALDESC:Events from St. Anthony Mary Claret Roman Catholic Church
REFRESH-INTERVAL;VALUE=DURATION:PT1440M
X-PUBLISHED-TTL:PT1440M
BEGIN:VTIMEZONE
TZID:America/Chicago
BEGIN:DAYLIGHT
DTSTART:20220313T020000Z
TZOFFSETFROM:-0600
TZOFFSETTO:-0500
END:DAYLIGHT
BEGIN:STANDARD
DTSTART:20221106T020000Z
TZOFFSETFROM:-0500
TZOFFSETTO:-0600
END:STANDARD
END:VTIMEZONE
BEGIN:VTIMEZONE
TZID:UTC
BEGIN:STANDARD
DTSTART:20250726T053900Z
TZOFFSETFROM:+0000
TZOFFSETTO:+0000
END:STANDARD
END:VTIMEZONE
BEGIN:VEVENT
UID:876-220
DTSTAMP:20260422T053900Z
SUMMARY:Slaves &amp;amp\; Kings (Spanish version)
LOCATION:
ORGANIZER;CN=samcsa:MAILTO:valerie.s.garcia@icloud.com
DTSTART;TZID=America/Chicago;VALUE=DATE:20220823
DTEND;TZID=America/Chicago;VALUE=DATE:20220824
X-ALT-DESC;FMTTYPE=TEXT/HTML:In 1930\, the writer and intellectual Azorín 
 discovered a hoax that had been propagated for almost 60 years: the life a
 nd works of the Spanish archbishop Antonio María Claret\, founder of the 
 Claretian Missionaries\, had been adulterated. SLAVES AND KINGS\, based on
  real events\, uncovers the route of this investigation that leads to the 
 history\,&amp;hellip\;
CATEGORIES:Community events
URL;VALUE=URI:https://samcsa.com/mc-events/slaves-kings-spanish-version/
METHOD:PUBLISH
END:VEVENT
END:VCALENDAR