BEGIN:VCALENDAR
VERSION:2.0
PRODID:spatie/icalendar-generator
DESCRIPTION:Events from St. Anthony Mary Claret Roman Catholic Church
X-WR-CALDESC:Events from St. Anthony Mary Claret Roman Catholic Church
REFRESH-INTERVAL;VALUE=DURATION:PT1440M
X-PUBLISHED-TTL:PT1440M
BEGIN:VTIMEZONE
TZID:America/Chicago
BEGIN:DAYLIGHT
DTSTART:20220313T020000Z
TZOFFSETFROM:-0600
TZOFFSETTO:-0500
END:DAYLIGHT
BEGIN:STANDARD
DTSTART:20221106T020000Z
TZOFFSETFROM:-0500
TZOFFSETTO:-0600
END:STANDARD
END:VTIMEZONE
BEGIN:VTIMEZONE
TZID:UTC
BEGIN:STANDARD
DTSTART:20250726T203910Z
TZOFFSETFROM:+0000
TZOFFSETTO:+0000
END:STANDARD
END:VTIMEZONE
BEGIN:VEVENT
UID:888-228
DTSTAMP:20260422T203910Z
SUMMARY:Friday Family Fun Night
LOCATION:
ORGANIZER;CN=samcsa:MAILTO:valerie.s.garcia@icloud.com
DTSTART;TZID=America/Chicago:20220819T173000
DTEND;TZID=America/Chicago:20220819T220000
X-ALT-DESC;FMTTYPE=TEXT/HTML:Join us for the exciting Friday-night kick-off
  of the 16th Annual Family Conference: Fatima Today. All ages welcome! R
 egister for FREE today! 5:30 p.m. FUN\, FESTIVE\, AND FAMILY-FRIENDLY ACTI
 VITIES Picnic-style games and activities\, music and concessions . . . all
  inside the air-conditioned Hyatt Regency Hill Country Resort &amp;amp\; Spa! 
 Purchase a kid’s wristband pass for $5&amp;hellip\;
CATEGORIES:Community events
URL;VALUE=URI:https://samcsa.com/mc-events/friday-family-fun-night/
METHOD:PUBLISH
END:VEVENT
END:VCALENDAR