BEGIN:VCALENDAR
VERSION:2.0
PRODID:spatie/icalendar-generator
DESCRIPTION:Events from St. Anthony Mary Claret Roman Catholic Church
X-WR-CALDESC:Events from St. Anthony Mary Claret Roman Catholic Church
REFRESH-INTERVAL;VALUE=DURATION:PT1440M
X-PUBLISHED-TTL:PT1440M
BEGIN:VTIMEZONE
TZID:America/Chicago
BEGIN:DAYLIGHT
DTSTART:20220313T020000Z
TZOFFSETFROM:-0600
TZOFFSETTO:-0500
END:DAYLIGHT
BEGIN:STANDARD
DTSTART:20221106T020000Z
TZOFFSETFROM:-0500
TZOFFSETTO:-0600
END:STANDARD
BEGIN:DAYLIGHT
DTSTART:20230312T020000Z
TZOFFSETFROM:-0600
TZOFFSETTO:-0500
END:DAYLIGHT
END:VTIMEZONE
BEGIN:VTIMEZONE
TZID:UTC
BEGIN:STANDARD
DTSTART:20250726T114959Z
TZOFFSETFROM:+0000
TZOFFSETTO:+0000
END:STANDARD
END:VTIMEZONE
BEGIN:VEVENT
UID:986-239
DTSTAMP:20260422T114959Z
SUMMARY:\"Mother Teresa: No Greater Love\" Movie
LOCATION:Hubertus Hall 6150 Roft Road  San Antonio Texas 78253
ORGANIZER;CN=samcsa:MAILTO:valerie.s.garcia@icloud.com
DTSTART;TZID=America/Chicago;VALUE=DATE:20221004
DTEND;TZID=America/Chicago;VALUE=DATE:20221005
X-ALT-DESC;FMTTYPE=TEXT/HTML:Twenty-five years have passed since the death 
 of Mother Teresa of Calcutta \, sparking a renewed interest in this spiri
 tual giant of the 20th century. Filmed on 5 continents and featuring unpre
 cedented access to both institutional archives and the apostolates of the 
 Missionaries of Charity\, this film reveals not just who Mother Teresa was
 \, but how&amp;hellip\;
CATEGORIES:Community events
URL;VALUE=URI:https://samcsa.com/mc-events/mother-teresa-no-greater-love-mo
 vie-2/
METHOD:PUBLISH
END:VEVENT
END:VCALENDAR